BEGIN:VCALENDAR
VERSION:2.0
METHOD:PUBLISH
PRODID:-//ddaysoftware.com//NONSGML DDay.iCal 1.0//EN
BEGIN:VTIMEZONE
TZID:Central Standard Time
BEGIN:STANDARD
DTSTART;VALUE=DATE:18000101
RRULE:FREQ=YEARLY;BYDAY=SU;BYHOUR=2;BYMINUTE=0;BYMONTH=10;BYMONTHDAY=25,26,
 27,28,29,30,31
TZOFFSETFROM:-0500
TZOFFSETTO:-0600
END:STANDARD
BEGIN:DAYLIGHT
DTSTART;VALUE=DATE:18000101
RRULE:FREQ=YEARLY;BYDAY=SU;BYHOUR=2;BYMINUTE=0;BYMONTH=4;BYMONTHDAY=1,2,3,4
 ,5,6,7
TZOFFSETFROM:-0600
TZOFFSETTO:-0500
END:DAYLIGHT
BEGIN:STANDARD
DTSTART;VALUE=DATE:20070101
RRULE:FREQ=YEARLY;BYDAY=SU;BYHOUR=2;BYMINUTE=0;BYMONTH=11;BYMONTHDAY=1,2,3,
 4,5,6,7
TZOFFSETFROM:-0500
TZOFFSETTO:-0600
END:STANDARD
BEGIN:DAYLIGHT
DTSTART;VALUE=DATE:20070101
RRULE:FREQ=YEARLY;BYDAY=SU;BYHOUR=2;BYMINUTE=0;BYMONTH=3;BYMONTHDAY=8,9,10,
 11,12,13,14
TZOFFSETFROM:-0600
TZOFFSETTO:-0500
END:DAYLIGHT
END:VTIMEZONE
BEGIN:VEVENT
DESCRIPTION:Sign Ups 6\, cst draw at 6:30 cst Ladies Advantage Entry $11 50
 1/Cricket/Choice Add up to $300 Tourney Director: Brent Bland
DTEND;TZID=Central Standard Time:20260418T220000
DTSTAMP:20260420T135039
DTSTART;TZID=Central Standard Time:20260418T180000
LOCATION:1301 N Fares Ave Evansville IN 47711
SEQUENCE:0
SUMMARY:Dart MPRT American Legion Pate 265 
UID:ada69b22-0c78-480c-a74b-78842c7cd25c
URL:https://leagues.jjventures.com/dart-mprt-american-legion-pate-265--2026
 -04-18
END:VEVENT
END:VCALENDAR
