BEGIN:VCALENDAR
VERSION:2.0
METHOD:PUBLISH
PRODID:-//ddaysoftware.com//NONSGML DDay.iCal 1.0//EN
BEGIN:VTIMEZONE
TZID:Central Standard Time
BEGIN:STANDARD
DTSTART;VALUE=DATE:18000101
RRULE:FREQ=YEARLY;BYDAY=SU;BYHOUR=2;BYMINUTE=0;BYMONTH=10;BYMONTHDAY=25,26,
 27,28,29,30,31
TZOFFSETFROM:-0500
TZOFFSETTO:-0600
END:STANDARD
BEGIN:DAYLIGHT
DTSTART;VALUE=DATE:18000101
RRULE:FREQ=YEARLY;BYDAY=SU;BYHOUR=2;BYMINUTE=0;BYMONTH=4;BYMONTHDAY=1,2,3,4
 ,5,6,7
TZOFFSETFROM:-0600
TZOFFSETTO:-0500
END:DAYLIGHT
BEGIN:STANDARD
DTSTART;VALUE=DATE:20070101
RRULE:FREQ=YEARLY;BYDAY=SU;BYHOUR=2;BYMINUTE=0;BYMONTH=11;BYMONTHDAY=1,2,3,
 4,5,6,7
TZOFFSETFROM:-0500
TZOFFSETTO:-0600
END:STANDARD
BEGIN:DAYLIGHT
DTSTART;VALUE=DATE:20070101
RRULE:FREQ=YEARLY;BYDAY=SU;BYHOUR=2;BYMINUTE=0;BYMONTH=3;BYMONTHDAY=8,9,10,
 11,12,13,14
TZOFFSETFROM:-0600
TZOFFSETTO:-0500
END:DAYLIGHT
END:VTIMEZONE
BEGIN:VEVENT
DESCRIPTION:Women sign 6 eastern\, draw 630 eastern Men sign up 6:30 easter
 n\, draw 7 eastern Entry $11 501/Cricket/Choice Pot will be matched Tourne
 y Director: Grannan Montgomery *if not enough ladies will become ladies ad
 v
DTEND;TZID=Central Standard Time:20260502T221500
DTSTAMP:20260420T135244
DTSTART;TZID=Central Standard Time:20260502T180000
LOCATION:1325 Willow St Vincennes IN
SEQUENCE:0
SUMMARY:MPRT Eagles\, Vincennes IN *eastern time*
UID:53387093-5e9a-452a-bd1b-71498336927a
URL:https://leagues.jjventures.com/mprt-eagles-vincennes-in-eastern-time-20
 26-05-02
END:VEVENT
END:VCALENDAR
